BEGIN:VCALENDAR
VERSION:2.0
PRODID:icalendar-ruby
CALSCALE:GREGORIAN
METHOD:PUBLISH
BEGIN:VEVENT
DTSTAMP:20260420T175324Z
UID:71-509926@thestonechurch.tithelysetup5.com
DTSTART:20260426T170000Z
DTEND:20260426T190000Z
CLASS:PUBLIC
CREATED:20260420T093024
DESCRIPTION:Join us for a potluck after second service on April 26th.  The
  meat will be provided.  Please bring a dish to share.  All are welcome!
LAST-MODIFIED:20260420T093024
LOCATION:theStone Church Iowa Room
SUMMARY:Family Potluck
URL;VALUE=URI:https://www.thestone.life/events/family-potluck/2026-04-26
ATTACH;FILENAME=Family-Potluck.png;FMTTYPE=image/png:https://dq5pwpg1q8ru0.
 cloudfront.net/2026/04/20/14/30/23/cc7fcb0e-d67e-463f-a729-24187b2241aa/Fa
 mily-Potluck.png
END:VEVENT
END:VCALENDAR
