BEGIN:VCALENDAR
VERSION:2.0
PRODID:icalendar-ruby
CALSCALE:GREGORIAN
METHOD:PUBLISH
BEGIN:VEVENT
DTSTAMP:20260420T162531Z
UID:65-509925@thestonechurch.tithelysetup5.com
DTSTART:20260503T164500Z
DTEND:20260503T171500Z
CLASS:PUBLIC
CREATED:20260420T092641
DESCRIPTION:DATE CHANGE: We will have our Annual Meeting after second servi
 ce on May 3.  
LAST-MODIFIED:20260420T092641
LOCATION:theStone Church
SUMMARY:Annual Meeting
URL;VALUE=URI:https://www.thestone.life/events/annual-meeting/2026-05-03
ATTACH;FILENAME=Annual-Meeting-3-1.png;FMTTYPE=image/png:https://dq5pwpg1q8
 ru0.cloudfront.net/2026/04/20/14/26/41/f46b8a93-b8b7-4b5b-b0ca-e70f610a0bf
 9/Annual-Meeting-3-1.png
END:VEVENT
END:VCALENDAR
